View In:
ArcGIS JavaScript
ArcGIS Online Map Viewer
ArcGIS Earth
Service Description: wrangell_lidar_2023_intensity
Name: wrangell_lidar_2023_intensity
Description:
Single Fused Map Cache: false
Extent:
XMin: 653328.5
YMin: 6222573.5
XMax: 698795
YMax: 6273830
Spatial Reference: PROJCS["NAD83(2011) / UTM zone 8N",GEOGCS["NAD83(2011)",DATUM["NAD83 (National Spatial Reference System 2011)",SPHEROID["GRS 1980",6378137.0,298.257222101]],PRIMEM["Greenwich",0.0],UNIT["Degree",0.0174532925199433]],PROJECTION["Transverse_Mercator"],PARAMETER["False easting",500000.0],PARAMETER["False northing",0.0],PARAMETER["Longitude of natural origin",-135.0],PARAMETER["Scale factor at natural origin",0.9996],PARAMETER["Latitude of natural origin",0.0],UNIT["metre",1.0]]
Initial Extent:
XMin: 653328.5
YMin: 6222573.5
XMax: 698795
YMax: 6273830
Spatial Reference: PROJCS["NAD83(2011) / UTM zone 8N",GEOGCS["NAD83(2011)",DATUM["NAD83 (National Spatial Reference System 2011)",SPHEROID["GRS 1980",6378137.0,298.257222101]],PRIMEM["Greenwich",0.0],UNIT["Degree",0.0174532925199433]],PROJECTION["Transverse_Mercator"],PARAMETER["False easting",500000.0],PARAMETER["False northing",0.0],PARAMETER["Longitude of natural origin",-135.0],PARAMETER["Scale factor at natural origin",0.9996],PARAMETER["Latitude of natural origin",0.0],UNIT["metre",1.0]]
Full Extent:
XMin: 653328.5
YMin: 6222573.5
XMax: 698795
YMax: 6273830
Spatial Reference: PROJCS["NAD83(2011) / UTM zone 8N",GEOGCS["NAD83(2011)",DATUM["NAD83 (National Spatial Reference System 2011)",SPHEROID["GRS 1980",6378137.0,298.257222101]],PRIMEM["Greenwich",0.0],UNIT["Degree",0.0174532925199433]],PROJECTION["Transverse_Mercator"],PARAMETER["False easting",500000.0],PARAMETER["False northing",0.0],PARAMETER["Longitude of natural origin",-135.0],PARAMETER["Scale factor at natural origin",0.9996],PARAMETER["Latitude of natural origin",0.0],UNIT["metre",1.0]]
Pixel Size X: 0.5
Pixel Size Y: 0.5
Band Count: 1
Pixel Type: U16
RasterFunction Infos: {"rasterFunctionInfos": [{
"name": "None",
"description": "",
"help": ""
}]}
Mensuration Capabilities: Basic
Has Histograms: true
Has Colormap: false
Has Multi Dimensions : false
Rendering Rule:
Min Scale: 0
Max Scale: 0
Copyright Text:
Service Data Type: esriImageServiceDataTypeGeneric
Min Values: 9796.322265625
Max Values: 60960.677734375
Mean Values: 28351.46526929151
Standard Deviation Values: 1869.4336273563533
Object ID Field: OBJECTID
Fields:
-
OBJECTID
(
type: esriFieldTypeOID, alias: OBJECTID
)
-
Shape
(
type: esriFieldTypeGeometry, alias: Shape
)
-
Name
(
type: esriFieldTypeString, alias: Name, length: 200
)
-
MinPS
(
type: esriFieldTypeDouble, alias: MinPS
)
-
MaxPS
(
type: esriFieldTypeDouble, alias: MaxPS
)
-
LowPS
(
type: esriFieldTypeDouble, alias: LowPS
)
-
HighPS
(
type: esriFieldTypeDouble, alias: HighPS
)
-
Category
(
type: esriFieldTypeInteger, alias: Category
,
Coded Values:
[0: Unknown]
,
[1: Primary]
,
[2: Overview]
, ...6 more...
)
-
Tag
(
type: esriFieldTypeString, alias: Tag, length: 100
)
-
GroupName
(
type: esriFieldTypeString, alias: GroupName, length: 100
)
-
ProductName
(
type: esriFieldTypeString, alias: ProductName, length: 100
)
-
CenterX
(
type: esriFieldTypeDouble, alias: CenterX
)
-
CenterY
(
type: esriFieldTypeDouble, alias: CenterY
)
-
ZOrder
(
type: esriFieldTypeInteger, alias: ZOrder
)
-
Shape_Length
(
type: esriFieldTypeDouble, alias: Shape_Length
)
-
Shape_Area
(
type: esriFieldTypeDouble, alias: Shape_Area
)
Default Mosaic Method: Northwest
Allowed Mosaic Methods: NorthWest,Center,LockRaster,ByAttribute,Nadir,Viewpoint,Seamline,None
SortField:
SortValue: null
Mosaic Operator: First
Default Compression Quality: 75
Default Resampling Method: Bilinear
Max Record Count: 1000
Max Image Height: 4100
Max Image Width: 15000
Max Download Image Count: 20
Max Mosaic Image Count: 20
Allow Raster Function: true
Allow Copy: true
Allow Analysis: true
Allow Compute TiePoints: false
Supports Statistics: true
Supports Advanced Queries: true
Use StandardizedQueries: true
Raster Type Infos:
Name: Raster Dataset
Description: Supports all ArcGIS Raster Datasets
Help:
Has Raster Attribute Table: false
Edit Fields Info: null
Ownership Based AccessControl For Rasters: null
Child Resources:
Info
Histograms
Statistics
Key Properties
Legend
Raster Function Infos
Supported Operations:
Export Image
Query
Identify
Measure
Compute Histograms
Compute Statistics Histograms
Get Samples
Compute Class Statistics
Query Boundary
Compute Pixel Location
Compute Angles
Validate
Project