View In:
ArcGIS JavaScript
ArcGIS Online Map Viewer
ArcGIS Earth
Service Description: Lidar-derived elevation data for Wrangell Island, Southeast Alaska, collected November 28-29, 2023, Raw Data File 2024-1, provides an aerial lidar derived classified point cloud, digital surface model (DSM), digital terrain model (DTM), and intensity model of slopes above the Zimovia Highway on Wrangell Island, Southeast Alaska, during leaf-off conditions (cover figure). The survey provides snow-free surface elevations for use in landslide hazard assessment following a November 20, 2023, debris flow that occurred near Milepost 11 of the Zimovia Highway and tragically claimed the lives of six people. Ground control data were collected June 26-30, 2023 (Zechmann and others, 2023), and aerial lidar data were collected November 28-29, 2023, and subsequently merged and processed using a suite of geospatial processing software. This data collection is released as a Raw Data File with an open end-user license. All files can be downloaded from the Alaska Division of Geological & Geophysical Surveys website (http://doi.org/10.14509/31106).
Name: wrangell_lidar_2023_11_29_dsm
Description: Lidar-derived elevation data for Wrangell Island, Southeast Alaska, collected November 28-29, 2023, Raw Data File 2024-1, provides an aerial lidar derived classified point cloud, digital surface model (DSM), digital terrain model (DTM), and intensity model of slopes above the Zimovia Highway on Wrangell Island, Southeast Alaska, during leaf-off conditions (cover figure). The survey provides snow-free surface elevations for use in landslide hazard assessment following a November 20, 2023, debris flow that occurred near Milepost 11 of the Zimovia Highway and tragically claimed the lives of six people. Ground control data were collected June 26-30, 2023 (Zechmann and others, 2023), and aerial lidar data were collected November 28-29, 2023, and subsequently merged and processed using a suite of geospatial processing software. This data collection is released as a Raw Data File with an open end-user license. All files can be downloaded from the Alaska Division of Geological & Geophysical Surveys website (http://doi.org/10.14509/31106).
Single Fused Map Cache: false
Extent:
XMin: 659893.5
YMin: 6242507.5
XMax: 669341.5
YMax: 6264005
Spatial Reference: 102055
(6337)
Initial Extent:
XMin: 659893.5
YMin: 6242507.5
XMax: 669341.5
YMax: 6264005
Spatial Reference: 102055
(6337)
Full Extent:
XMin: 659893.5
YMin: 6242507.5
XMax: 669341.5
YMax: 6264005
Spatial Reference: 102055
(6337)
Pixel Size X: 0.5
Pixel Size Y: 0.5
Band Count: 1
Pixel Type: F32
RasterFunction Infos: {"rasterFunctionInfos": [
{
"name": "Hillshade",
"description": "A raster function template.",
"help": ""
},
{
"name": "None",
"description": "Make a Raster or Raster Dataset into a Function Raster Dataset.",
"help": ""
},
{
"name": "Aspect",
"description": "A raster function template.",
"help": ""
},
{
"name": "ElevationColorRamp1",
"description": "A raster function template.",
"help": ""
},
{
"name": "Hillshade_Green_Tint",
"description": "A raster function template.",
"help": ""
},
{
"name": "hillshade_test",
"description": "test",
"help": ""
},
{
"name": "Shaded Relief 1",
"description": "A raster function template.",
"help": ""
},
{
"name": "Shaded Relief",
"description": "A raster function template.",
"help": ""
},
{
"name": "Slope",
"description": "A raster function template.",
"help": ""
}
]}
Mensuration Capabilities: Basic
Has Histograms: true
Has Colormap: false
Has Multi Dimensions : false
Rendering Rule:
Min Scale: 0
Max Scale: 0
Copyright Text: This survey area is on the traditional homelands of the Stikine Tlingit people. This work was funded by the Disaster Relief Fund under the Governor's declared disaster order on November 21, 2023. Funding was made available to DGGS by the Alaska Department of Military and Veterans Affairs' Division of Homeland Security and Emergency Management. We thank Coastal Helicopters for their aviation expertise and contribution to these data products, Joe Delabrue of the U.S. Forest Service for logistical help, and David Ciampa and Amy Helkenn of the Alaska Division of Mining, Land and Water for providing ground control points. The views and conclusions contained in this document are those of the authors and should not be interpreted as necessarily representing the official policies, either expressed or implied, of the U.S. Government.
Service Data Type: esriImageServiceDataTypeGeneric
Min Values: 1.396527329714445
Max Values: 744.7354658336626
Mean Values: 243.06129088007486
Standard Deviation Values: 201.40100170452442
Object ID Field: OBJECTID
Fields:
-
OBJECTID
(
type: esriFieldTypeOID, alias: OBJECTID
)
-
Shape
(
type: esriFieldTypeGeometry, alias: Shape
)
-
Name
(
type: esriFieldTypeString, alias: Name, length: 200
)
-
MinPS
(
type: esriFieldTypeDouble, alias: MinPS
)
-
MaxPS
(
type: esriFieldTypeDouble, alias: MaxPS
)
-
LowPS
(
type: esriFieldTypeDouble, alias: LowPS
)
-
HighPS
(
type: esriFieldTypeDouble, alias: HighPS
)
-
Category
(
type: esriFieldTypeInteger, alias: Category
,
Coded Values:
[0: Unknown]
,
[1: Primary]
,
[2: Overview]
, ...6 more...
)
-
Tag
(
type: esriFieldTypeString, alias: Tag, length: 100
)
-
GroupName
(
type: esriFieldTypeString, alias: GroupName, length: 100
)
-
ProductName
(
type: esriFieldTypeString, alias: ProductName, length: 100
)
-
CenterX
(
type: esriFieldTypeDouble, alias: CenterX
)
-
CenterY
(
type: esriFieldTypeDouble, alias: CenterY
)
-
ZOrder
(
type: esriFieldTypeInteger, alias: ZOrder
)
-
Shape_Length
(
type: esriFieldTypeDouble, alias: Shape_Length
)
-
Shape_Area
(
type: esriFieldTypeDouble, alias: Shape_Area
)
Default Mosaic Method: Northwest
Allowed Mosaic Methods: NorthWest,Center,LockRaster,ByAttribute,Nadir,Viewpoint,Seamline,None
SortField:
SortValue: null
Mosaic Operator: First
Default Compression Quality: 75
Default Resampling Method: Bilinear
Max Record Count: 1000
Max Image Height: 4100
Max Image Width: 15000
Max Download Image Count: 20
Max Mosaic Image Count: 20
Allow Raster Function: true
Allow Copy: true
Allow Analysis: true
Allow Compute TiePoints: false
Supports Statistics: true
Supports Advanced Queries: true
Use StandardizedQueries: true
Raster Type Infos:
Name: Raster Dataset
Description: Supports all ArcGIS Raster Datasets
Help:
Has Raster Attribute Table: false
Edit Fields Info: null
Ownership Based AccessControl For Rasters: null
Child Resources:
Info
Histograms
Statistics
Key Properties
Legend
Raster Function Infos
Supported Operations:
Export Image
Query
Identify
Measure
Compute Histograms
Compute Statistics Histograms
Get Samples
Compute Class Statistics
Query Boundary
Compute Pixel Location
Compute Angles
Validate
Project