View In:
ArcGIS JavaScript
ArcGIS Online Map Viewer
ArcGIS Earth
Service Description: geologic_maps_copy_with_collar
Name: geologic_maps_copy_with_collar
Description:
Single Fused Map Cache: false
Extent:
XMin: -1.01134909921E7
YMin: -8947861.198699998
XMax: 4843758.687899999
YMax: 4016782.521300001
Spatial Reference: 102006
(3338)
Initial Extent:
XMin: -1.01134909921E7
YMin: -8947861.198699998
XMax: 4843758.687899999
YMax: 4016782.521300001
Spatial Reference: 102006
(3338)
Full Extent:
XMin: -1.01134909921E7
YMin: -8947861.198699998
XMax: 4843758.687899999
YMax: 4016782.521300001
Spatial Reference: 102006
(3338)
Pixel Size X: 0.013333333333333332
Pixel Size Y: 0.013333333333333332
Band Count: 3
Pixel Type: U8
RasterFunction Infos: {"rasterFunctionInfos": [{
"name": "None",
"description": "A No-Op Function.",
"help": ""
}]}
Mensuration Capabilities: Basic
Has Histograms: false
Has Colormap: false
Has Multi Dimensions : false
Rendering Rule:
Min Scale: 0
Max Scale: 0
Copyright Text:
Service Data Type: esriImageServiceDataTypeRGB
Min Values: N/A
Max Values: N/A
Mean Values: N/A
Standard Deviation Values: N/A
Object ID Field: OBJECTID
Fields:
-
OBJECTID
(
type: esriFieldTypeOID, alias: OBJECTID
)
-
Shape
(
type: esriFieldTypeGeometry, alias: Shape
)
-
Name
(
type: esriFieldTypeString, alias: Name, length: 200
)
-
MinPS
(
type: esriFieldTypeDouble, alias: MinPS
)
-
MaxPS
(
type: esriFieldTypeDouble, alias: MaxPS
)
-
LowPS
(
type: esriFieldTypeDouble, alias: LowPS
)
-
HighPS
(
type: esriFieldTypeDouble, alias: HighPS
)
-
Category
(
type: esriFieldTypeInteger, alias: Category
,
Coded Values:
[0: Unknown]
,
[1: Primary]
,
[2: Overview]
, ...6 more...
)
-
Tag
(
type: esriFieldTypeString, alias: Tag, length: 100
)
-
GroupName
(
type: esriFieldTypeString, alias: GroupName, length: 100
)
-
ProductName
(
type: esriFieldTypeString, alias: ProductName, length: 100
)
-
CenterX
(
type: esriFieldTypeDouble, alias: CenterX
)
-
CenterY
(
type: esriFieldTypeDouble, alias: CenterY
)
-
ZOrder
(
type: esriFieldTypeInteger, alias: ZOrder
)
-
citation_id
(
type: esriFieldTypeInteger, alias: citation_id
)
-
map_type
(
type: esriFieldTypeString, alias: map_type, length: 50
)
-
Notes
(
type: esriFieldTypeString, alias: Notes, length: 255
)
-
title
(
type: esriFieldTypeString, alias: title, length: 500
)
-
map_scale_denominator
(
type: esriFieldTypeInteger, alias: map_scale_denominator
)
-
map_index_id
(
type: esriFieldTypeInteger, alias: map_index_id
)
-
publication_number
(
type: esriFieldTypeString, alias: publication_number, length: 100
)
-
author
(
type: esriFieldTypeString, alias: author, length: 4096
)
-
agency
(
type: esriFieldTypeString, alias: agency, length: 7
)
-
keyword
(
type: esriFieldTypeString, alias: keyword, length: 4096
)
-
url
(
type: esriFieldTypeString, alias: url, length: 100
)
-
map_label
(
type: esriFieldTypeString, alias: map_label, length: 50
)
-
area_sq_mi
(
type: esriFieldTypeDouble, alias: area_sq_mi
)
-
digital_data
(
type: esriFieldTypeString, alias: digital_data, length: 7
)
-
superceded_by
(
type: esriFieldTypeString, alias: superceded_by, length: 100
)
-
outline_source
(
type: esriFieldTypeString, alias: outline_source, length: 30
)
-
temp
(
type: esriFieldTypeInteger, alias: temp
)
-
Shape_Length
(
type: esriFieldTypeDouble, alias: Shape_Length
)
-
Shape_Area
(
type: esriFieldTypeDouble, alias: Shape_Area
)
Default Mosaic Method: ByAttribute
Allowed Mosaic Methods: ByAttribute,NorthWest,Center,LockRaster,Nadir,Viewpoint,Seamline,None
SortField: ZOrder
SortValue: 0
Mosaic Operator: First
Default Compression Quality: 75
Default Resampling Method: Bilinear
Max Record Count: 1000
Max Image Height: 4100
Max Image Width: 15000
Max Download Image Count: 20
Max Mosaic Image Count: 200
Allow Raster Function: true
Allow Copy: true
Allow Analysis: true
Allow Compute TiePoints: false
Supports Statistics: true
Supports Advanced Queries: true
Use StandardizedQueries: true
Raster Type Infos:
Name: Raster Dataset
Description: Supports all ArcGIS Raster Datasets
Help:
Has Raster Attribute Table: false
Edit Fields Info: null
Ownership Based AccessControl For Rasters: null
Child Resources:
Info
Statistics
Key Properties
Legend
Raster Function Infos
Supported Operations:
Export Image
Query
Identify
Measure
Compute Histograms
Compute Statistics Histograms
Get Samples
Compute Class Statistics
Query Boundary
Compute Pixel Location
Compute Angles
Validate
Project