View In:
ArcGIS JavaScript
ArcGIS Online Map Viewer
ArcGIS Earth
Service Description: elevation/golovin_sfm_2019_dsm
Name: elevation/golovin_sfm_2019_dsm
Description:
Single Fused Map Cache: false
Extent:
XMin: 593721.3178274691
YMin: 7158670.472010658
XMax: 595485.9457218687
YMax: 7159648.179969458
Spatial Reference: 26903
(26903)
Initial Extent:
XMin: 593721.3178274691
YMin: 7158670.472010658
XMax: 595485.9457218687
YMax: 7159648.179969458
Spatial Reference: 26903
(26903)
Full Extent:
XMin: 593721.3178274691
YMin: 7158670.472010658
XMax: 595485.9457218687
YMax: 7159648.179969458
Spatial Reference: 26903
(26903)
Pixel Size X: 0.05377339999998693
Pixel Size Y: 0.05377339999998828
Band Count: 1
Pixel Type: F32
RasterFunction Infos: {"rasterFunctionInfos": [
{
"name": "None",
"description": "Make a Raster or Raster Dataset into a Function Raster Dataset.",
"help": ""
},
{
"name": "Hillshade",
"description": "A raster function template.",
"help": ""
},
{
"name": "Aspect",
"description": "A raster function template.",
"help": ""
},
{
"name": "ElevationColorRamp1",
"description": "A raster function template.",
"help": ""
},
{
"name": "Hillshade_Green_Tint",
"description": "A raster function template.",
"help": ""
},
{
"name": "Shaded Relief 1",
"description": "A raster function template.",
"help": ""
},
{
"name": "Shaded Relief",
"description": "A raster function template.",
"help": ""
},
{
"name": "Slope",
"description": "A raster function template.",
"help": ""
},
{
"name": "Unit Conversion",
"description": "Changes values from one unit of measurement to another.",
"help": ""
}
]}
Mensuration Capabilities: NONE
Has Histograms: true
Has Colormap: false
Has Multi Dimensions : false
Rendering Rule:
Min Scale: 0
Max Scale: 0
Copyright Text:
Service Data Type: esriImageServiceDataTypeGeneric
Min Values: 1.0189440250396729
Max Values: 36.22495651245117
Mean Values: 11.97897764338362
Standard Deviation Values: 9.715670073816089
Object ID Field: OBJECTID
Fields:
-
OBJECTID
(
type: esriFieldTypeOID, alias: OBJECTID
)
-
Shape
(
type: esriFieldTypeGeometry, alias: Shape
)
-
Name
(
type: esriFieldTypeString, alias: Name, length: 200
)
-
MinPS
(
type: esriFieldTypeDouble, alias: MinPS
)
-
MaxPS
(
type: esriFieldTypeDouble, alias: MaxPS
)
-
LowPS
(
type: esriFieldTypeDouble, alias: LowPS
)
-
HighPS
(
type: esriFieldTypeDouble, alias: HighPS
)
-
Category
(
type: esriFieldTypeInteger, alias: Category
,
Coded Values:
[0: Unknown]
,
[1: Primary]
,
[2: Overview]
, ...6 more...
)
-
Tag
(
type: esriFieldTypeString, alias: Tag, length: 100
)
-
GroupName
(
type: esriFieldTypeString, alias: GroupName, length: 100
)
-
ProductName
(
type: esriFieldTypeString, alias: ProductName, length: 100
)
-
CenterX
(
type: esriFieldTypeDouble, alias: CenterX
)
-
CenterY
(
type: esriFieldTypeDouble, alias: CenterY
)
-
ZOrder
(
type: esriFieldTypeInteger, alias: ZOrder
)
-
Shape_Length
(
type: esriFieldTypeDouble, alias: Shape_Length
)
-
Shape_Area
(
type: esriFieldTypeDouble, alias: Shape_Area
)
Default Mosaic Method: Northwest
Allowed Mosaic Methods: NorthWest,Center,LockRaster,ByAttribute,Nadir,Viewpoint,Seamline,None
SortField:
SortValue: null
Mosaic Operator: First
Default Compression Quality: 75
Default Resampling Method: Bilinear
Max Record Count: 1000
Max Image Height: 4100
Max Image Width: 15000
Max Download Image Count: 20
Max Mosaic Image Count: 20
Allow Raster Function: true
Allow Copy: true
Allow Analysis: true
Allow Compute TiePoints: false
Supports Statistics: true
Supports Advanced Queries: true
Use StandardizedQueries: true
Raster Type Infos:
Name: Raster Dataset
Description: Supports all ArcGIS Raster Datasets
Help:
Has Raster Attribute Table: false
Edit Fields Info: null
Ownership Based AccessControl For Rasters: null
Child Resources:
Info
Histograms
Statistics
Key Properties
Legend
Raster Function Infos
Supported Operations:
Export Image
Query
Identify
Measure
Compute Histograms
Compute Statistics Histograms
Get Samples
Compute Class Statistics
Query Boundary
Compute Pixel Location
Compute Angles
Validate
Project