View In:
ArcGIS JavaScript
ArcGIS Online Map Viewer
ArcGIS Earth
Service Description: In 2011 the Alaska Congressional Delegation requested federal support in modernizing Alaska map data. Collection of a 5-meter resolution elevation grid for Alaska began in 2012, replacing the former 60-meter statewide elevation grid. Radar technology called IfSAR (Interferometric Synthetic Aperture Radar) is used to collect the data because it can penetrate the clouds, smoke and haze that are often present in Alaska. The data are free to the public for any use. Alaska IfSAR acquisition supports the broader national 3D Elevation Program.
Name: elevation/IFSAR_DSM
Description: In 2011 the Alaska Congressional Delegation requested federal support in modernizing Alaska map data. Collection of a 5-meter resolution elevation grid for Alaska began in 2012, replacing the former 60-meter statewide elevation grid. Radar technology called IfSAR (Interferometric Synthetic Aperture Radar) is used to collect the data because it can penetrate the clouds, smoke and haze that are often present in Alaska. The data are free to the public for any use. Alaska IfSAR acquisition supports the broader national 3D Elevation Program.
Single Fused Map Cache: false
Extent:
XMin: -2190035
YMin: 396760
XMax: 1492515
YMax: 2391470
Spatial Reference: 102247
(102247)
Initial Extent:
XMin: -2190035
YMin: 396760
XMax: 1492515
YMax: 2391470
Spatial Reference: 102247
(102247)
Full Extent:
XMin: -2190035
YMin: 396760
XMax: 1492515
YMax: 2391470
Spatial Reference: 102247
(102247)
Pixel Size X: 5.0
Pixel Size Y: 5.0
Band Count: 1
Pixel Type: F32
RasterFunction Infos: {"rasterFunctionInfos": [
{
"name": "None",
"description": "Make a Raster or Raster Dataset into a Function Raster Dataset.",
"help": ""
},
{
"name": "Hillshade",
"description": "A raster function template.",
"help": ""
},
{
"name": "Hillshade_Green_Tint",
"description": "A raster function template.",
"help": ""
},
{
"name": "Shaded Relief 1",
"description": "A raster function template.",
"help": ""
},
{
"name": "Aspect",
"description": "A raster function template.",
"help": ""
},
{
"name": "Slope",
"description": "A raster function template.",
"help": ""
},
{
"name": "Coastal Mask",
"description": "Clipped elevation values to IFSAR derived hydrography. ",
"help": ""
}
]}
Mensuration Capabilities: Basic
Has Histograms: true
Has Colormap: false
Has Multi Dimensions : false
Rendering Rule:
Min Scale: 0
Max Scale: 0
Copyright Text:
Service Data Type: esriImageServiceDataTypeGeneric
Min Values: 0
Max Values: 6000
Mean Values: -54.67258614574877
Standard Deviation Values: 2381.0646807146186
Object ID Field: OBJECTID
Fields:
-
OBJECTID
(
type: esriFieldTypeOID, alias: OBJECTID
)
-
Shape
(
type: esriFieldTypeGeometry, alias: Shape
)
-
Name
(
type: esriFieldTypeString, alias: Name, length: 200
)
-
MinPS
(
type: esriFieldTypeDouble, alias: MinPS
)
-
MaxPS
(
type: esriFieldTypeDouble, alias: MaxPS
)
-
LowPS
(
type: esriFieldTypeDouble, alias: LowPS
)
-
HighPS
(
type: esriFieldTypeDouble, alias: HighPS
)
-
Category
(
type: esriFieldTypeInteger, alias: Category
,
Coded Values:
[0: Unknown]
,
[1: Primary]
,
[2: Overview]
, ...6 more...
)
-
Tag
(
type: esriFieldTypeString, alias: Tag, length: 100
)
-
GroupName
(
type: esriFieldTypeString, alias: GroupName, length: 100
)
-
ProductName
(
type: esriFieldTypeString, alias: ProductName, length: 100
)
-
CenterX
(
type: esriFieldTypeDouble, alias: CenterX
)
-
CenterY
(
type: esriFieldTypeDouble, alias: CenterY
)
-
ZOrder
(
type: esriFieldTypeInteger, alias: ZOrder
)
-
Shape_Length
(
type: esriFieldTypeDouble, alias: Shape_Length
)
-
Shape_Area
(
type: esriFieldTypeDouble, alias: Shape_Area
)
Default Mosaic Method: Northwest
Allowed Mosaic Methods: NorthWest,Center,LockRaster,ByAttribute,Nadir,Viewpoint,Seamline,None
SortField:
SortValue: null
Mosaic Operator: First
Default Compression Quality: 75
Default Resampling Method: Bilinear
Max Record Count: 1000
Max Image Height: 4100
Max Image Width: 15000
Max Download Image Count: 20
Max Mosaic Image Count: 20
Allow Raster Function: true
Allow Copy: true
Allow Analysis: true
Allow Compute TiePoints: false
Supports Statistics: true
Supports Advanced Queries: true
Use StandardizedQueries: true
Raster Type Infos:
Name: Raster Dataset
Description: Supports all ArcGIS Raster Datasets
Help:
Has Raster Attribute Table: false
Edit Fields Info: null
Ownership Based AccessControl For Rasters: null
Child Resources:
Info
Histograms
Statistics
Key Properties
Legend
Raster Function Infos
Supported Operations:
Export Image
Query
Identify
Measure
Compute Histograms
Compute Statistics Histograms
Get Samples
Compute Class Statistics
Query Boundary
Compute Pixel Location
Compute Angles
Validate
Project