{
 "currentVersion": 11.1,
 "serviceDescription": "Image Service of Alaska Key Geologic Map Images",
 "name": "geology/geologic_maps",
 "description": "Image Service of Alaska Key Geologic Map Images",
 "extent": {
  "xmin": -1454411.4126999993,
  "ymin": 475382.50027499977,
  "xmax": 1624822.4280140004,
  "ymax": 2354586.4130999995,
  "spatialReference": {
   "wkid": 102006,
   "latestWkid": 3338
  }
 },
 "initialExtent": {
  "xmin": -1454411.4126999993,
  "ymin": 475382.50027499977,
  "xmax": 1624822.4280140004,
  "ymax": 2354586.4130999995,
  "spatialReference": {
   "wkid": 102006,
   "latestWkid": 3338
  }
 },
 "fullExtent": {
  "xmin": -1454411.4126999993,
  "ymin": 475382.50027499977,
  "xmax": 1624822.4280140004,
  "ymax": 2354586.4130999995,
  "spatialReference": {
   "wkid": 102006,
   "latestWkid": 3338
  }
 },
 "sortableFields": "",
 "bandCount": 3,
 "pixelType": "U8",
 "minValues": [],
 "maxValues": [],
 "meanValues": [],
 "stdvValues": [],
 "hasMultidimensions": false,
 "pixelSizeX": 0.323553,
 "pixelSizeY": 0.323553,
 "datasetFormat": "AMD",
 "uncompressedSize": 165823841482350,
 "blockWidth": 2048,
 "blockHeight": 256,
 "compressionType": "None",
 "bandNames": [
  "Band_1",
  "Band_2",
  "Band_3"
 ],
 "allowCopy": true,
 "allowAnalysis": true,
 "itemAccess": false,
 "minPixelSize": 0,
 "maxPixelSize": 0,
 "copyrightText": "",
 "serviceDataType": "esriImageServiceDataTypeRGB",
 "serviceSourceType": "esriImageServiceSourceTypeMosaicDataset",
 "objectIdField": "OBJECTID",
 "fields": [
  {
   "name": "OBJECTID",
   "type": "esriFieldTypeOID",
   "alias": "OBJECTID",
   "domain": null
  },
  {
   "name": "Shape",
   "type": "esriFieldTypeGeometry",
   "alias": "Shape",
   "domain": null
  },
  {
   "name": "Name",
   "type": "esriFieldTypeString",
   "alias": "Name",
   "domain": null,
   "length": 200
  },
  {
   "name": "MinPS",
   "type": "esriFieldTypeDouble",
   "alias": "MinPS",
   "domain": null
  },
  {
   "name": "MaxPS",
   "type": "esriFieldTypeDouble",
   "alias": "MaxPS",
   "domain": null
  },
  {
   "name": "LowPS",
   "type": "esriFieldTypeDouble",
   "alias": "LowPS",
   "domain": null
  },
  {
   "name": "HighPS",
   "type": "esriFieldTypeDouble",
   "alias": "HighPS",
   "domain": null
  },
  {
   "name": "Category",
   "type": "esriFieldTypeInteger",
   "alias": "Category",
   "domain": {
    "type": "codedValue",
    "name": "MosaicCatalogItemCategoryDomain",
    "description": "Catalog item categories.",
    "codedValues": [
     {
      "name": "Unknown",
      "code": 0
     },
     {
      "name": "Primary",
      "code": 1
     },
     {
      "name": "Overview",
      "code": 2
     },
     {
      "name": "Unprocessed Overview",
      "code": 3
     },
     {
      "name": "Partial Overview",
      "code": 4
     },
     {
      "name": "Inactive",
      "code": 5
     },
     {
      "name": "Uploaded",
      "code": 253
     },
     {
      "name": "Incomplete",
      "code": 254
     },
     {
      "name": "Custom",
      "code": 255
     }
    ],
    "mergePolicy": "esriMPTDefaultValue",
    "splitPolicy": "esriSPTDefaultValue"
   }
  },
  {
   "name": "Tag",
   "type": "esriFieldTypeString",
   "alias": "Tag",
   "domain": null,
   "length": 100
  },
  {
   "name": "GroupName",
   "type": "esriFieldTypeString",
   "alias": "GroupName",
   "domain": null,
   "length": 100
  },
  {
   "name": "ProductName",
   "type": "esriFieldTypeString",
   "alias": "ProductName",
   "domain": null,
   "length": 100
  },
  {
   "name": "CenterX",
   "type": "esriFieldTypeDouble",
   "alias": "CenterX",
   "domain": null
  },
  {
   "name": "CenterY",
   "type": "esriFieldTypeDouble",
   "alias": "CenterY",
   "domain": null
  },
  {
   "name": "ZOrder",
   "type": "esriFieldTypeInteger",
   "alias": "ZOrder",
   "domain": null
  },
  {
   "name": "Shape_Length",
   "type": "esriFieldTypeDouble",
   "alias": "Shape_Length",
   "domain": null
  },
  {
   "name": "Shape_Area",
   "type": "esriFieldTypeDouble",
   "alias": "Shape_Area",
   "domain": null
  },
  {
   "name": "citation_id",
   "type": "esriFieldTypeInteger",
   "alias": "citation_id",
   "domain": null
  },
  {
   "name": "map_type",
   "type": "esriFieldTypeString",
   "alias": "map_type",
   "domain": null,
   "length": 50
  },
  {
   "name": "Notes",
   "type": "esriFieldTypeString",
   "alias": "Notes",
   "domain": null,
   "length": 255
  },
  {
   "name": "title",
   "type": "esriFieldTypeString",
   "alias": "title",
   "domain": null,
   "length": 500
  },
  {
   "name": "map_scale_denominator",
   "type": "esriFieldTypeInteger",
   "alias": "map_scale_denominator",
   "domain": null
  },
  {
   "name": "map_index_id",
   "type": "esriFieldTypeInteger",
   "alias": "map_index_id",
   "domain": null
  },
  {
   "name": "publication_number",
   "type": "esriFieldTypeString",
   "alias": "publication_number",
   "domain": null,
   "length": 100
  },
  {
   "name": "author",
   "type": "esriFieldTypeString",
   "alias": "author",
   "domain": null,
   "length": 4096
  },
  {
   "name": "agency",
   "type": "esriFieldTypeString",
   "alias": "agency",
   "domain": null,
   "length": 7
  },
  {
   "name": "keyword",
   "type": "esriFieldTypeString",
   "alias": "keyword",
   "domain": null,
   "length": 4096
  },
  {
   "name": "url",
   "type": "esriFieldTypeString",
   "alias": "url",
   "domain": null,
   "length": 100
  },
  {
   "name": "map_label",
   "type": "esriFieldTypeString",
   "alias": "map_label",
   "domain": null,
   "length": 50
  },
  {
   "name": "area_sq_mi",
   "type": "esriFieldTypeDouble",
   "alias": "area_sq_mi",
   "domain": null
  },
  {
   "name": "digital_data",
   "type": "esriFieldTypeString",
   "alias": "digital_data",
   "domain": null,
   "length": 7
  },
  {
   "name": "superceded_by",
   "type": "esriFieldTypeString",
   "alias": "superceded_by",
   "domain": null,
   "length": 100
  },
  {
   "name": "outline_source",
   "type": "esriFieldTypeString",
   "alias": "outline_source",
   "domain": null,
   "length": 30
  }
 ],
 "capabilities": "Catalog,Mensuration,Pixels,Download,Image,Metadata",
 "defaultMosaicMethod": "Northwest",
 "allowedMosaicMethods": "NorthWest,Center,LockRaster,ByAttribute,Nadir,Viewpoint,Seamline,None",
 "sortField": "",
 "sortValue": null,
 "sortAscending": true,
 "mosaicOperator": "First",
 "maxDownloadSizeLimit": 2048,
 "defaultCompressionQuality": 75,
 "defaultResamplingMethod": "Bilinear",
 "maxImageHeight": 4100,
 "maxImageWidth": 15000,
 "maxRecordCount": 1000,
 "maxDownloadImageCount": 20,
 "maxMosaicImageCount": 30,
 "allowRasterFunction": true,
 "rasterFunctionInfos": [
  {
   "name": "None",
   "description": "A No-Op Function.",
   "help": ""
  }
 ],
 "rasterTypeInfos": [
  {
   "name": "Raster Dataset",
   "description": "Supports all ArcGIS Raster Datasets",
   "help": ""
  }
 ],
 "mensurationCapabilities": "Basic",
 "hasHistograms": false,
 "hasColormap": false,
 "hasRasterAttributeTable": false,
 "minScale": 0,
 "maxScale": 0,
 "exportTilesAllowed": false,
 "supportsStatistics": true,
 "supportsAdvancedQueries": true,
 "editFieldsInfo": {
  "creationDateField": "created_date",
  "creatorField": "created_user",
  "editDateField": "last_edited_date",
  "editorField": "last_edited_user"
 },
 "ownershipBasedAccessControlForRasters": {
  "allowOthersToDelete": false,
  "allowOthersToUpdate": false
 },
 "allowComputeTiePoints": false,
 "useStandardizedQueries": true,
 "advancedQueryCapabilities": {
  "useStandardizedQueries": true,
  "supportsStatistics": true,
  "supportsOrderBy": true,
  "supportsDistinct": true,
  "supportsPagination": true
 },
 "spatialReference": {
  "wkid": 102006,
  "latestWkid": 3338
 }
}
