{ "currentVersion": 11.1, "serviceDescription": "

The State of Alaska Division of Geological & Geophysical Surveys (DGGS) produced a digital surface model (DSM) and an orthorectified aerial optical image mosaic (orthoimagery) of the Resurrection Bay watershed, surrounding the city of Seward in south-central Alaska. Aerial photographs and Global Navigation Satellite System (GNSS) data were collected on August 13, 2015, and were processed using Structure-from-Motion (SfM) photogrammetric techniques to create the DSM and orthoimagery. All data are projected in UTM Zone 6 North (meters) using the NAD83 (2011; EPSG 26906) horizontal datum and NAVD88 (Geoid12A; EPOCH 2010.00) vertical datum. The project was part of an ongoing investigation of the impact of flooding, slope instability, and cryosphere hazards on infrastructure and public safety. For the purpose of enabling open access to geospatial datasets in Alaska, this collection is being released as a Raw Data File with an open end-user license. All files can be downloaded free of charge from the DGGS website (http://doi.org/10.14509/29824). DSMs represent surface elevations of all surfaces, including vegetation, vegetation-free land, bridges, buildings, etc. The DSM is a single-band, 32-bit float GeoTIFF files using Lempel-Ziv-Welch (LZW) compression, with a ground sample distance (GSD) of 0.41 m. The No Data value is set to -32767.<\/span><\/p><\/div><\/div>", "name": "elevation/resurrection_bay_2015_08_13_dsm", "description": "

The State of Alaska Division of Geological & Geophysical Surveys (DGGS) produced a digital surface model (DSM) and an orthorectified aerial optical image mosaic (orthoimagery) of the Resurrection Bay watershed, surrounding the city of Seward in south-central Alaska. Aerial photographs and Global Navigation Satellite System (GNSS) data were collected on August 13, 2015, and were processed using Structure-from-Motion (SfM) photogrammetric techniques to create the DSM and orthoimagery. All data are projected in UTM Zone 6 North (meters) using the NAD83 (2011; EPSG 26906) horizontal datum and NAVD88 (Geoid12A; EPOCH 2010.00) vertical datum. The project was part of an ongoing investigation of the impact of flooding, slope instability, and cryosphere hazards on infrastructure and public safety. For the purpose of enabling open access to geospatial datasets in Alaska, this collection is being released as a Raw Data File with an open end-user license. All files can be downloaded free of charge from the DGGS website (http://doi.org/10.14509/29824). DSMs represent surface elevations of all surfaces, including vegetation, vegetation-free land, bridges, buildings, etc. The DSM is a single-band, 32-bit float GeoTIFF files using Lempel-Ziv-Welch (LZW) compression, with a ground sample distance (GSD) of 0.41 m. The No Data value is set to -32767.<\/span><\/p><\/div><\/div>", "extent": { "xmin": 356101.74839634425, "ymin": 6650913.935293538, "xmax": 378093.6321987238, "ymax": 6679544.878357013, "spatialReference": { "wkid": 26906, "latestWkid": 26906 } }, "initialExtent": { "xmin": 356101.74839634425, "ymin": 6650913.935293538, "xmax": 378093.6321987238, "ymax": 6679544.878357013, "spatialReference": { "wkid": 26906, "latestWkid": 26906 } }, "fullExtent": { "xmin": 356101.74839634425, "ymin": 6650913.935293538, "xmax": 378093.6321987238, "ymax": 6679544.878357013, "spatialReference": { "wkid": 26906, "latestWkid": 26906 } }, "sortableFields": "", "bandCount": 1, "pixelType": "F32", "minValues": [ -217.32569885253906 ], "maxValues": [ 1670.1630859375 ], "meanValues": [ 505.7322694702305 ], "stdvValues": [ 371.0979532262389 ], "hasMultidimensions": false, "pixelSizeX": 0.4052160193539862, "pixelSizeY": 0.4052160193539854, "datasetFormat": "AMD", "uncompressedSize": 15338569728, "blockWidth": 2048, "blockHeight": 256, "compressionType": "None", "bandNames": [ "Band_1" ], "allowCopy": true, "allowAnalysis": true, "itemAccess": false, "minPixelSize": 0, "maxPixelSize": 0, "copyrightText": "This project is funded by Seward Bear Creek Flood Service Area, Kenai Peninsula Borough, DGGS through a State of Alaska Capital Improvement Project, and the University of Alaska Fairbanks, Geophysical Institute.", "serviceDataType": "esriImageServiceDataTypeGeneric", "serviceSourceType": "esriImageServiceSourceTypeMosaicDataset", "objectIdField": "OBJECTID", "fields": [ { "name": "OBJECTID", "type": "esriFieldTypeOID", "alias": "OBJECTID", "domain": null }, { "name": "Shape", "type": "esriFieldTypeGeometry", "alias": "Shape", "domain": null }, { "name": "Name", "type": "esriFieldTypeString", "alias": "Name", "domain": null, "length": 200 }, { "name": "MinPS", "type": "esriFieldTypeDouble", "alias": "MinPS", "domain": null }, { "name": "MaxPS", "type": "esriFieldTypeDouble", "alias": "MaxPS", "domain": null }, { "name": "LowPS", "type": "esriFieldTypeDouble", "alias": "LowPS", "domain": null }, { "name": "HighPS", "type": "esriFieldTypeDouble", "alias": "HighPS", "domain": null }, { "name": "Category", "type": "esriFieldTypeInteger", "alias": "Category", "domain": { "type": "codedValue", "name": "MosaicCatalogItemCategoryDomain", "description": "Catalog item categories.", "codedValues": [ { "name": "Unknown", "code": 0 }, { "name": "Primary", "code": 1 }, { "name": "Overview", "code": 2 }, { "name": "Unprocessed Overview", "code": 3 }, { "name": "Partial Overview", "code": 4 }, { "name": "Uploaded", "code": 253 }, { "name": "Incomplete", "code": 254 }, { "name": "Custom", "code": 255 } ], "mergePolicy": "esriMPTDefaultValue", "splitPolicy": "esriSPTDefaultValue" } }, { "name": "Tag", "type": "esriFieldTypeString", "alias": "Tag", "domain": null, "length": 100 }, { "name": "GroupName", "type": "esriFieldTypeString", "alias": "GroupName", "domain": null, "length": 100 }, { "name": "ProductName", "type": "esriFieldTypeString", "alias": "ProductName", "domain": null, "length": 100 }, { "name": "CenterX", "type": "esriFieldTypeDouble", "alias": "CenterX", "domain": null }, { "name": "CenterY", "type": "esriFieldTypeDouble", "alias": "CenterY", "domain": null }, { "name": "ZOrder", "type": "esriFieldTypeInteger", "alias": "ZOrder", "domain": null }, { "name": "Shape_Length", "type": "esriFieldTypeDouble", "alias": "Shape_Length", "domain": null }, { "name": "Shape_Area", "type": "esriFieldTypeDouble", "alias": "Shape_Area", "domain": null } ], "capabilities": "Catalog,Image,Metadata", "defaultMosaicMethod": "Northwest", "allowedMosaicMethods": "NorthWest,Center,LockRaster,ByAttribute,Nadir,Viewpoint,Seamline,None", "sortField": "", "sortValue": null, "sortAscending": true, "mosaicOperator": "First", "maxDownloadSizeLimit": 2048, "defaultCompressionQuality": 75, "defaultResamplingMethod": "Bilinear", "maxImageHeight": 4100, "maxImageWidth": 15000, "maxRecordCount": 1000, "maxDownloadImageCount": 20, "maxMosaicImageCount": 20, "allowRasterFunction": true, "rasterFunctionInfos": [ { "name": "None", "description": "A No-Op Function.", "help": "" }, { "name": "Hillshade", "description": "A raster function template.", "help": "" }, { "name": "Hillshade_Green_Tint", "description": "A raster function template.", "help": "" }, { "name": "ElevationColorRamp1", "description": "A raster function template.", "help": "" }, { "name": "Shaded Relief 1", "description": "A raster function template.", "help": "" }, { "name": "Shaded Relief", "description": "A raster function template.", "help": "" }, { "name": "Slope", "description": "A raster function template.", "help": "" }, { "name": "Aspect", "description": "A raster function template.", "help": "" }, { "name": "None", "description": "A No-Op Function.", "help": "" } ], "rasterTypeInfos": [ { "name": "Raster Dataset", "description": "Supports all ArcGIS Raster Datasets", "help": "" } ], "mensurationCapabilities": "None", "hasHistograms": true, "hasColormap": false, "hasRasterAttributeTable": false, "minScale": 0, "maxScale": 0, "exportTilesAllowed": false, "supportsStatistics": true, "supportsAdvancedQueries": true, "editFieldsInfo": null, "ownershipBasedAccessControlForRasters": null, "allowComputeTiePoints": false, "useStandardizedQueries": true, "advancedQueryCapabilities": { "useStandardizedQueries": true, "supportsStatistics": true, "supportsOrderBy": true, "supportsDistinct": true, "supportsPagination": true }, "spatialReference": { "wkid": 26906, "latestWkid": 26906 } }