{
 "currentVersion": 11.1,
 "serviceDescription": "Product: These lidar data are processed classified LAS 1.4 files, formatted to 6333 individual 1,000-meter x 1,000-meter tiles; used to create intensity images, 3D breaklines and hydro-flattened DEMs as necessary. Geographic Extent: Partial coverage of Prince of Wales-Hyder Census Area in southeastern Alaska, covering approximately 2055.6 total square miles over Prince of Wales Island. Dataset Description: The Prince of Wales, AK 2017 QL1 LiDAR project called for the planning, acquisition, processing, and derivative products of LiDAR data to be collected at a nominal pulse spacing (NPS) of 0.35 meters. Project specifications are based on the U.S. Geological Survey National Geospatial Program Base LiDAR Specification, Version 1.2. The data were developed based on a horizontal projection/datum of NAD83 (2011), UTM Zone 8, meters and vertical datum of NAVD88 (GEOID12B), meters. LiDAR data were delivered as flightline-extent unclassified LAS swaths, as processed Classified LAS 1.4 files formatted to 6333 individual 1,000-meter x 1,000-meter tiles. Tiled intensity imagery, tiled bare earth digital elevation models (DEMs), tiled first return digital surface models (DSMs), tiled shaded relief rasters, and tiled 1-foot contours were produced using a 2,000-meter x 2,000-meter schema (1705 tiles). Continuous breaklines were produced in Esri file geodatabase format. Building footprints were created in Esri file geodatabase format. Ground Conditions: LiDAR was collected in the spring, summer, and fall of 2017, when the least amount of snow was on the ground and rivers were at or below normal levels. In order to post process the LiDAR data to meet task order specifications and meet ASPRS vertical accuracy guidelines, Quantum Spatial, Inc. established a total of 79 ground control points that were used to calibrate the LiDAR to known ground locations established throughout the project area. An additional 127 independent accuracy checkpoints, 74 in Bare Earth and Urban landcovers (74 NVA points), 53 in Forested, Shrubs, and Tall Weeds categories (53 VVA points), were used to assess the vertical accuracy of the data. These checkpoints were not used to calibrate or post process the data.",
 "name": "elevation/prince_of_wales_2017_dsm",
 "description": "Product: These lidar data are processed classified LAS 1.4 files, formatted to 6333 individual 1,000-meter x 1,000-meter tiles; used to create intensity images, 3D breaklines and hydro-flattened DEMs as necessary. Geographic Extent: Partial coverage of Prince of Wales-Hyder Census Area in southeastern Alaska, covering approximately 2055.6 total square miles over Prince of Wales Island. Dataset Description: The Prince of Wales, AK 2017 QL1 LiDAR project called for the planning, acquisition, processing, and derivative products of LiDAR data to be collected at a nominal pulse spacing (NPS) of 0.35 meters. Project specifications are based on the U.S. Geological Survey National Geospatial Program Base LiDAR Specification, Version 1.2. The data were developed based on a horizontal projection/datum of NAD83 (2011), UTM Zone 8, meters and vertical datum of NAVD88 (GEOID12B), meters. LiDAR data were delivered as flightline-extent unclassified LAS swaths, as processed Classified LAS 1.4 files formatted to 6333 individual 1,000-meter x 1,000-meter tiles. Tiled intensity imagery, tiled bare earth digital elevation models (DEMs), tiled first return digital surface models (DSMs), tiled shaded relief rasters, and tiled 1-foot contours were produced using a 2,000-meter x 2,000-meter schema (1705 tiles). Continuous breaklines were produced in Esri file geodatabase format. Building footprints were created in Esri file geodatabase format. Ground Conditions: LiDAR was collected in the spring, summer, and fall of 2017, when the least amount of snow was on the ground and rivers were at or below normal levels. In order to post process the LiDAR data to meet task order specifications and meet ASPRS vertical accuracy guidelines, Quantum Spatial, Inc. established a total of 79 ground control points that were used to calibrate the LiDAR to known ground locations established throughout the project area. An additional 127 independent accuracy checkpoints, 74 in Bare Earth and Urban landcovers (74 NVA points), 53 in Forested, Shrubs, and Tall Weeds categories (53 VVA points), were used to assess the vertical accuracy of the data. These checkpoints were not used to calibrate or post process the data.",
 "extent": {
  "xmin": 573791,
  "ymin": 6100000,
  "xmax": 672081,
  "ymax": 6247000,
  "spatialReference": {
   "wkid": 102055,
   "latestWkid": 6337
  }
 },
 "initialExtent": {
  "xmin": 573791,
  "ymin": 6100000,
  "xmax": 672081,
  "ymax": 6247000,
  "spatialReference": {
   "wkid": 102055,
   "latestWkid": 6337
  }
 },
 "fullExtent": {
  "xmin": 573791,
  "ymin": 6100000,
  "xmax": 672081,
  "ymax": 6247000,
  "spatialReference": {
   "wkid": 102055,
   "latestWkid": 6337
  }
 },
 "sortableFields": "",
 "bandCount": 1,
 "pixelType": "F32",
 "minValues": [
  -1.020432710647583
 ],
 "maxValues": [
  1201.214111328125
 ],
 "meanValues": [
  220.44947491191428
 ],
 "stdvValues": [
  194.85733629069625
 ],
 "hasMultidimensions": false,
 "pixelSizeX": 0.5,
 "pixelSizeY": 0.5,
 "datasetFormat": "AMD",
 "uncompressedSize": 231178080000,
 "blockWidth": 2048,
 "blockHeight": 256,
 "compressionType": "None",
 "bandNames": [
  "Band_1"
 ],
 "allowCopy": true,
 "allowAnalysis": true,
 "itemAccess": false,
 "minPixelSize": 0,
 "maxPixelSize": 0,
 "copyrightText": "",
 "serviceDataType": "esriImageServiceDataTypeGeneric",
 "serviceSourceType": "esriImageServiceSourceTypeMosaicDataset",
 "objectIdField": "OBJECTID",
 "fields": [
  {
   "name": "OBJECTID",
   "type": "esriFieldTypeOID",
   "alias": "OBJECTID",
   "domain": null
  },
  {
   "name": "Shape",
   "type": "esriFieldTypeGeometry",
   "alias": "Shape",
   "domain": null
  },
  {
   "name": "Name",
   "type": "esriFieldTypeString",
   "alias": "Name",
   "domain": null,
   "length": 200
  },
  {
   "name": "MinPS",
   "type": "esriFieldTypeDouble",
   "alias": "MinPS",
   "domain": null
  },
  {
   "name": "MaxPS",
   "type": "esriFieldTypeDouble",
   "alias": "MaxPS",
   "domain": null
  },
  {
   "name": "LowPS",
   "type": "esriFieldTypeDouble",
   "alias": "LowPS",
   "domain": null
  },
  {
   "name": "HighPS",
   "type": "esriFieldTypeDouble",
   "alias": "HighPS",
   "domain": null
  },
  {
   "name": "Category",
   "type": "esriFieldTypeInteger",
   "alias": "Category",
   "domain": {
    "type": "codedValue",
    "name": "MosaicCatalogItemCategoryDomain",
    "description": "Catalog item categories.",
    "codedValues": [
     {
      "name": "Unknown",
      "code": 0
     },
     {
      "name": "Primary",
      "code": 1
     },
     {
      "name": "Overview",
      "code": 2
     },
     {
      "name": "Unprocessed Overview",
      "code": 3
     },
     {
      "name": "Partial Overview",
      "code": 4
     },
     {
      "name": "Inactive",
      "code": 5
     },
     {
      "name": "Uploaded",
      "code": 253
     },
     {
      "name": "Incomplete",
      "code": 254
     },
     {
      "name": "Custom",
      "code": 255
     }
    ],
    "mergePolicy": "esriMPTDefaultValue",
    "splitPolicy": "esriSPTDefaultValue"
   }
  },
  {
   "name": "Tag",
   "type": "esriFieldTypeString",
   "alias": "Tag",
   "domain": null,
   "length": 100
  },
  {
   "name": "GroupName",
   "type": "esriFieldTypeString",
   "alias": "GroupName",
   "domain": null,
   "length": 100
  },
  {
   "name": "ProductName",
   "type": "esriFieldTypeString",
   "alias": "ProductName",
   "domain": null,
   "length": 100
  },
  {
   "name": "CenterX",
   "type": "esriFieldTypeDouble",
   "alias": "CenterX",
   "domain": null
  },
  {
   "name": "CenterY",
   "type": "esriFieldTypeDouble",
   "alias": "CenterY",
   "domain": null
  },
  {
   "name": "ZOrder",
   "type": "esriFieldTypeInteger",
   "alias": "ZOrder",
   "domain": null
  },
  {
   "name": "Shape_Length",
   "type": "esriFieldTypeDouble",
   "alias": "Shape_Length",
   "domain": null
  },
  {
   "name": "Shape_Area",
   "type": "esriFieldTypeDouble",
   "alias": "Shape_Area",
   "domain": null
  }
 ],
 "capabilities": "Catalog,Image,Metadata",
 "defaultMosaicMethod": "Northwest",
 "allowedMosaicMethods": "NorthWest,Center,LockRaster,ByAttribute,Nadir,Viewpoint,Seamline,None",
 "sortField": "",
 "sortValue": null,
 "sortAscending": true,
 "mosaicOperator": "First",
 "maxDownloadSizeLimit": 2048,
 "defaultCompressionQuality": 75,
 "defaultResamplingMethod": "Bilinear",
 "maxImageHeight": 4100,
 "maxImageWidth": 15000,
 "maxRecordCount": 1000,
 "maxDownloadImageCount": 20,
 "maxMosaicImageCount": 20,
 "allowRasterFunction": true,
 "rasterFunctionInfos": [
  {
   "name": "None",
   "description": "A No-Op Function.",
   "help": ""
  },
  {
   "name": "Aspect",
   "description": "A raster function template.",
   "help": ""
  },
  {
   "name": "ElevationColorRamp1",
   "description": "A raster function template.",
   "help": ""
  },
  {
   "name": "Hillshade_Green_Tint",
   "description": "A raster function template.",
   "help": ""
  },
  {
   "name": "Hillshade",
   "description": "A raster function template.",
   "help": ""
  },
  {
   "name": "Shaded Relief 1",
   "description": "A raster function template.",
   "help": ""
  },
  {
   "name": "Shaded Relief",
   "description": "A raster function template.",
   "help": ""
  },
  {
   "name": "Slope",
   "description": "A raster function template.",
   "help": ""
  }
 ],
 "rasterTypeInfos": [
  {
   "name": "Raster Dataset",
   "description": "Supports all ArcGIS Raster Datasets",
   "help": ""
  }
 ],
 "mensurationCapabilities": "None",
 "hasHistograms": true,
 "hasColormap": false,
 "hasRasterAttributeTable": false,
 "minScale": 0,
 "maxScale": 0,
 "exportTilesAllowed": false,
 "supportsStatistics": true,
 "supportsAdvancedQueries": true,
 "editFieldsInfo": null,
 "ownershipBasedAccessControlForRasters": null,
 "allowComputeTiePoints": false,
 "useStandardizedQueries": true,
 "advancedQueryCapabilities": {
  "useStandardizedQueries": true,
  "supportsStatistics": true,
  "supportsOrderBy": true,
  "supportsDistinct": true,
  "supportsPagination": true
 },
 "spatialReference": {
  "wkid": 102055,
  "latestWkid": 6337
 }
}
