{
 "currentVersion": 11.1,
 "serviceDescription": "Data were collected by Eagle Mapping in 2015 using a Riegl LMS-Q1560 laser scanner. Instrument parameters (limited information was provided with the delivered data) for the acquisition are shown in Table 1. The acquisition was planned to produce at least 8 pulses/m2. Data were delivered in LAS format 1.2 and bare-earth returns classified and stored using ASPRS class 2 in the LAS files. The total area covered by the acquisition is 86,529 ha. There are 9.9 billion points included in the data delivery. ",
 "name": "elevation/hoonah_2015_dtm",
 "description": "Data were collected by Eagle Mapping in 2015 using a Riegl LMS-Q1560 laser scanner. Instrument parameters (limited information was provided with the delivered data) for the acquisition are shown in Table 1. The acquisition was planned to produce at least 8 pulses/m2. Data were delivered in LAS format 1.2 and bare-earth returns classified and stored using ASPRS class 2 in the LAS files. The total area covered by the acquisition is 86,529 ha. There are 9.9 billion points included in the data delivery. ",
 "extent": {
  "xmin": 691503,
  "ymin": 676976,
  "xmax": 742533,
  "ymax": 715066,
  "spatialReference": {
   "wkid": 26931,
   "latestWkid": 26931
  }
 },
 "initialExtent": {
  "xmin": 691503,
  "ymin": 676976,
  "xmax": 742533,
  "ymax": 715066,
  "spatialReference": {
   "wkid": 26931,
   "latestWkid": 26931
  }
 },
 "fullExtent": {
  "xmin": 691503,
  "ymin": 676976,
  "xmax": 742533,
  "ymax": 715066,
  "spatialReference": {
   "wkid": 26931,
   "latestWkid": 26931
  }
 },
 "sortableFields": "",
 "bandCount": 1,
 "pixelType": "F32",
 "minValues": [
  -0.17000000178813934
 ],
 "maxValues": [
  1124.510009765625
 ],
 "meanValues": [
  217.962918067985
 ],
 "stdvValues": [
  219.26001291092717
 ],
 "hasMultidimensions": false,
 "pixelSizeX": 1,
 "pixelSizeY": 1,
 "datasetFormat": "AMD",
 "uncompressedSize": 7774930800,
 "blockWidth": 2048,
 "blockHeight": 256,
 "compressionType": "None",
 "bandNames": [
  "Band_1"
 ],
 "allowCopy": true,
 "allowAnalysis": true,
 "itemAccess": false,
 "minPixelSize": 0,
 "maxPixelSize": 0,
 "copyrightText": "",
 "serviceDataType": "esriImageServiceDataTypeGeneric",
 "serviceSourceType": "esriImageServiceSourceTypeMosaicDataset",
 "objectIdField": "OBJECTID",
 "fields": [
  {
   "name": "OBJECTID",
   "type": "esriFieldTypeOID",
   "alias": "OBJECTID",
   "domain": null
  },
  {
   "name": "Shape",
   "type": "esriFieldTypeGeometry",
   "alias": "Shape",
   "domain": null
  },
  {
   "name": "Name",
   "type": "esriFieldTypeString",
   "alias": "Name",
   "domain": null,
   "length": 200
  },
  {
   "name": "MinPS",
   "type": "esriFieldTypeDouble",
   "alias": "MinPS",
   "domain": null
  },
  {
   "name": "MaxPS",
   "type": "esriFieldTypeDouble",
   "alias": "MaxPS",
   "domain": null
  },
  {
   "name": "LowPS",
   "type": "esriFieldTypeDouble",
   "alias": "LowPS",
   "domain": null
  },
  {
   "name": "HighPS",
   "type": "esriFieldTypeDouble",
   "alias": "HighPS",
   "domain": null
  },
  {
   "name": "Category",
   "type": "esriFieldTypeInteger",
   "alias": "Category",
   "domain": {
    "type": "codedValue",
    "name": "MosaicCatalogItemCategoryDomain",
    "description": "Catalog item categories.",
    "codedValues": [
     {
      "name": "Unknown",
      "code": 0
     },
     {
      "name": "Primary",
      "code": 1
     },
     {
      "name": "Overview",
      "code": 2
     },
     {
      "name": "Unprocessed Overview",
      "code": 3
     },
     {
      "name": "Partial Overview",
      "code": 4
     },
     {
      "name": "Inactive",
      "code": 5
     },
     {
      "name": "Uploaded",
      "code": 253
     },
     {
      "name": "Incomplete",
      "code": 254
     },
     {
      "name": "Custom",
      "code": 255
     }
    ],
    "mergePolicy": "esriMPTDefaultValue",
    "splitPolicy": "esriSPTDefaultValue"
   }
  },
  {
   "name": "Tag",
   "type": "esriFieldTypeString",
   "alias": "Tag",
   "domain": null,
   "length": 100
  },
  {
   "name": "GroupName",
   "type": "esriFieldTypeString",
   "alias": "GroupName",
   "domain": null,
   "length": 100
  },
  {
   "name": "ProductName",
   "type": "esriFieldTypeString",
   "alias": "ProductName",
   "domain": null,
   "length": 100
  },
  {
   "name": "CenterX",
   "type": "esriFieldTypeDouble",
   "alias": "CenterX",
   "domain": null
  },
  {
   "name": "CenterY",
   "type": "esriFieldTypeDouble",
   "alias": "CenterY",
   "domain": null
  },
  {
   "name": "ZOrder",
   "type": "esriFieldTypeInteger",
   "alias": "ZOrder",
   "domain": null
  },
  {
   "name": "Shape_Length",
   "type": "esriFieldTypeDouble",
   "alias": "Shape_Length",
   "domain": null
  },
  {
   "name": "Shape_Area",
   "type": "esriFieldTypeDouble",
   "alias": "Shape_Area",
   "domain": null
  }
 ],
 "capabilities": "Catalog,Image,Metadata",
 "defaultMosaicMethod": "Northwest",
 "allowedMosaicMethods": "NorthWest,Center,LockRaster,ByAttribute,Nadir,Viewpoint,Seamline,None",
 "sortField": "",
 "sortValue": null,
 "sortAscending": true,
 "mosaicOperator": "First",
 "maxDownloadSizeLimit": 2048,
 "defaultCompressionQuality": 75,
 "defaultResamplingMethod": "Bilinear",
 "maxImageHeight": 4100,
 "maxImageWidth": 15000,
 "maxRecordCount": 1000,
 "maxDownloadImageCount": 20,
 "maxMosaicImageCount": 20,
 "allowRasterFunction": true,
 "rasterFunctionInfos": [
  {
   "name": "Hillshade",
   "description": "A raster function template.",
   "help": ""
  },
  {
   "name": "None",
   "description": "A No-Op Function.",
   "help": ""
  },
  {
   "name": "Aspect",
   "description": "A raster function template.",
   "help": ""
  },
  {
   "name": "ElevationColorRamp1",
   "description": "A raster function template.",
   "help": ""
  },
  {
   "name": "Hillshade_Green_Tint",
   "description": "A raster function template.",
   "help": ""
  },
  {
   "name": "Shaded Relief 1",
   "description": "A raster function template.",
   "help": ""
  },
  {
   "name": "Shaded Relief",
   "description": "A raster function template.",
   "help": ""
  },
  {
   "name": "Slope",
   "description": "A raster function template.",
   "help": ""
  }
 ],
 "rasterTypeInfos": [
  {
   "name": "Raster Dataset",
   "description": "Supports all ArcGIS Raster Datasets",
   "help": ""
  }
 ],
 "mensurationCapabilities": "None",
 "hasHistograms": true,
 "hasColormap": false,
 "hasRasterAttributeTable": false,
 "minScale": 0,
 "maxScale": 0,
 "exportTilesAllowed": false,
 "supportsStatistics": true,
 "supportsAdvancedQueries": true,
 "editFieldsInfo": null,
 "ownershipBasedAccessControlForRasters": null,
 "allowComputeTiePoints": false,
 "useStandardizedQueries": true,
 "advancedQueryCapabilities": {
  "useStandardizedQueries": true,
  "supportsStatistics": true,
  "supportsOrderBy": true,
  "supportsDistinct": true,
  "supportsPagination": true
 },
 "spatialReference": {
  "wkid": 26931,
  "latestWkid": 26931
 }
}
