{ "currentVersion": 11.1, "serviceDescription": "

The State of Alaska Division of Geological & Geophysical Surveys (DGGS) produced a digital surface model (DSM) over an area extending from milepost (MP) 14, past MP 23 on the State Highway 7 (Haines Highway) north of Haines and further along the Chilkat River in southeast Alaska. The aerial photogrammetric survey from which the DSM was derived targeted the large debris fans, and their alpine source areas on the west side Takshanuk Mountains in support of cryosphere hazards mapping and monitoring efforts. Aerial photographs and Global Navigation Satellite System (GNSS) data were collected on April 10, 2016, and were processed using structure from motion (SfM) photogrammetric techniques to create the DSM. For the purposes of open access to geospatial datasets in Alaska, this collection is being released as a Raw Data File with an open end-user license. All files can be downloaded from the DGGS website (<\/span><\/span>http://doi.org/10.14509/XXXXX<\/span><\/span><\/a>).<\/span><\/span><\/p><\/div>", "name": "elevation/haines_hwy_debris_flows_2016_04_10_dsm", "description": "

The State of Alaska Division of Geological & Geophysical Surveys (DGGS) produced a digital surface model (DSM) over an area extending from milepost (MP) 14, past MP 23 on the State Highway 7 (Haines Highway) north of Haines and further along the Chilkat River in southeast Alaska. The aerial photogrammetric survey from which the DSM was derived targeted the large debris fans, and their alpine source areas on the west side Takshanuk Mountains in support of cryosphere hazards mapping and monitoring efforts. Aerial photographs and Global Navigation Satellite System (GNSS) data were collected on April 10, 2016, and were processed using structure from motion (SfM) photogrammetric techniques to create the DSM. For the purposes of open access to geospatial datasets in Alaska, this collection is being released as a Raw Data File with an open end-user license. All files can be downloaded from the DGGS website (<\/span><\/span>http://doi.org/10.14509/XXXXX<\/span><\/span><\/a>).<\/span><\/span><\/p><\/div>", "extent": { "xmin": 444025.0893933877, "ymin": 6576069.3860674435, "xmax": 458997.5075133865, "ymax": 6592428.777327443, "spatialReference": { "wkid": 102055, "latestWkid": 6337 } }, "initialExtent": { "xmin": 444025.0893933877, "ymin": 6576069.3860674435, "xmax": 458997.5075133865, "ymax": 6592428.777327443, "spatialReference": { "wkid": 102055, "latestWkid": 6337 } }, "fullExtent": { "xmin": 444025.0893933877, "ymin": 6576069.3860674435, "xmax": 458997.5075133865, "ymax": 6592428.777327443, "spatialReference": { "wkid": 102055, "latestWkid": 6337 } }, "sortableFields": "", "bandCount": 1, "pixelType": "U8", "minValues": [ 2.6701934337615967 ], "maxValues": [ 938.604248046875 ], "meanValues": [ 214.60458354476668 ], "stdvValues": [ 219.97562658252988 ], "hasMultidimensions": false, "pixelSizeX": 0.2871579999999763, "pixelSizeY": 0.2871579999999827, "datasetFormat": "AMD", "uncompressedSize": 2970415800, "blockWidth": 2048, "blockHeight": 256, "compressionType": "None", "bandNames": [ "Band_1" ], "allowCopy": true, "allowAnalysis": true, "itemAccess": false, "minPixelSize": 0, "maxPixelSize": 0, "copyrightText": "Division of Geological & Geophysical Surveys (Department of Natural Resources, State of Alaska)", "serviceDataType": "esriImageServiceDataTypeProcessed", "serviceSourceType": "esriImageServiceSourceTypeMosaicDataset", "objectIdField": "OBJECTID", "fields": [ { "name": "OBJECTID", "type": "esriFieldTypeOID", "alias": "OBJECTID", "domain": null }, { "name": "Shape", "type": "esriFieldTypeGeometry", "alias": "Shape", "domain": null }, { "name": "Name", "type": "esriFieldTypeString", "alias": "Name", "domain": null, "length": 200 }, { "name": "MinPS", "type": "esriFieldTypeDouble", "alias": "MinPS", "domain": null }, { "name": "MaxPS", "type": "esriFieldTypeDouble", "alias": "MaxPS", "domain": null }, { "name": "LowPS", "type": "esriFieldTypeDouble", "alias": "LowPS", "domain": null }, { "name": "HighPS", "type": "esriFieldTypeDouble", "alias": "HighPS", "domain": null }, { "name": "Category", "type": "esriFieldTypeInteger", "alias": "Category", "domain": { "type": "codedValue", "name": "MosaicCatalogItemCategoryDomain", "description": "Catalog item categories.", "codedValues": [ { "name": "Unknown", "code": 0 }, { "name": "Primary", "code": 1 }, { "name": "Overview", "code": 2 }, { "name": "Unprocessed Overview", "code": 3 }, { "name": "Partial Overview", "code": 4 }, { "name": "Uploaded", "code": 253 }, { "name": "Incomplete", "code": 254 }, { "name": "Custom", "code": 255 } ], "mergePolicy": "esriMPTDefaultValue", "splitPolicy": "esriSPTDefaultValue" } }, { "name": "Tag", "type": "esriFieldTypeString", "alias": "Tag", "domain": null, "length": 100 }, { "name": "GroupName", "type": "esriFieldTypeString", "alias": "GroupName", "domain": null, "length": 100 }, { "name": "ProductName", "type": "esriFieldTypeString", "alias": "ProductName", "domain": null, "length": 100 }, { "name": "CenterX", "type": "esriFieldTypeDouble", "alias": "CenterX", "domain": null }, { "name": "CenterY", "type": "esriFieldTypeDouble", "alias": "CenterY", "domain": null }, { "name": "ZOrder", "type": "esriFieldTypeInteger", "alias": "ZOrder", "domain": null }, { "name": "Shape_Length", "type": "esriFieldTypeDouble", "alias": "Shape_Length", "domain": null }, { "name": "Shape_Area", "type": "esriFieldTypeDouble", "alias": "Shape_Area", "domain": null } ], "capabilities": "Catalog,Image,Metadata", "defaultMosaicMethod": "Northwest", "allowedMosaicMethods": "NorthWest,Center,LockRaster,ByAttribute,Nadir,Viewpoint,Seamline,None", "sortField": "", "sortValue": null, "sortAscending": true, "mosaicOperator": "First", "maxDownloadSizeLimit": 2048, "defaultCompressionQuality": 75, "defaultResamplingMethod": "Bilinear", "maxImageHeight": 4100, "maxImageWidth": 15000, "maxRecordCount": 1000, "maxDownloadImageCount": 20, "maxMosaicImageCount": 20, "allowRasterFunction": true, "rasterFunctionInfos": [ { "name": "Hillshade", "description": "A raster function template.", "help": "" }, { "name": "Hillshade_Green_Tint", "description": "A raster function template.", "help": "" }, { "name": "ElevationColorRamp1", "description": "A raster function template.", "help": "" }, { "name": "Shaded Relief 1", "description": "A raster function template.", "help": "" }, { "name": "Shaded Relief", "description": "A raster function template.", "help": "" }, { "name": "Slope", "description": "A raster function template.", "help": "" }, { "name": "Aspect", "description": "A raster function template.", "help": "" }, { "name": "None", "description": "Make a Raster or Raster Dataset into a Function Raster Dataset.", "help": "" } ], "rasterTypeInfos": [ { "name": "Raster Dataset", "description": "Supports all ArcGIS Raster Datasets", "help": "" } ], "mensurationCapabilities": "None", "hasHistograms": true, "hasColormap": false, "hasRasterAttributeTable": false, "minScale": 0, "maxScale": 0, "exportTilesAllowed": false, "supportsStatistics": true, "supportsAdvancedQueries": true, "editFieldsInfo": null, "ownershipBasedAccessControlForRasters": null, "allowComputeTiePoints": false, "useStandardizedQueries": true, "advancedQueryCapabilities": { "useStandardizedQueries": true, "supportsStatistics": true, "supportsOrderBy": true, "supportsDistinct": true, "supportsPagination": true }, "spatialReference": { "wkid": 102055, "latestWkid": 6337 } }