{ "currentVersion": 11.1, "serviceDescription": "

The State of Alaska Division of Geological &amp; Geophysical Surveys (DGGS) produced an orthorectified aerial optical image mosaic (orthoimage) and digital surface model over an area extending from milepost (MP) 17 to approximately MP 24.5 on the Alaska State Highway 7 (Haines Highway) north of Haines along the Chilkat River in southeast Alaska. The aerial photogrammetric survey targeted large debris fans and their alpine source areas on the west side of the Takshanuk Mountains in support of cryosphere hazards mapping and monitoring efforts. Aerial photographs and Global Navigation Satellite System (GNSS) data were collected on May 26, 2014, and were processed using Structure-from-Motion (SfM) photogrammetric techniques to create the orthoimagery. For the purpose of enabling open access to geospatial datasets in Alaska, this collection is being released as a Raw Data File with an open end-user license. The data files available for download are tiled GeoTIFFs. All data are projected in UTM Zone 8 North (meters) using the NAD83 (2011; EPSG 6337) horizontal datum and NAVD88 (Geoid12A; EPOCH 2010.00) vertical datum. The orthoimage is a three-band, 8-bit unsigned GeoTIFF file using LZW compression. The orthoimage has a GSD of 0.21 m per pixel, and the \"No Data\" value is set to 0. Variable lighting in the orthoimages may result from variable sky conditions during the time of data acquisition.<\/span><\/p><\/div><\/div>", "name": "elevation/haines_hwy_debris_flows_2014_05_26_ortho_rgb", "description": "

The State of Alaska Division of Geological &amp; Geophysical Surveys (DGGS) produced an orthorectified aerial optical image mosaic (orthoimage) and digital surface model over an area extending from milepost (MP) 17 to approximately MP 24.5 on the Alaska State Highway 7 (Haines Highway) north of Haines along the Chilkat River in southeast Alaska. The aerial photogrammetric survey targeted large debris fans and their alpine source areas on the west side of the Takshanuk Mountains in support of cryosphere hazards mapping and monitoring efforts. Aerial photographs and Global Navigation Satellite System (GNSS) data were collected on May 26, 2014, and were processed using Structure-from-Motion (SfM) photogrammetric techniques to create the orthoimagery. For the purpose of enabling open access to geospatial datasets in Alaska, this collection is being released as a Raw Data File with an open end-user license. The data files available for download are tiled GeoTIFFs. All data are projected in UTM Zone 8 North (meters) using the NAD83 (2011; EPSG 6337) horizontal datum and NAVD88 (Geoid12A; EPOCH 2010.00) vertical datum. The orthoimage is a three-band, 8-bit unsigned GeoTIFF file using LZW compression. The orthoimage has a GSD of 0.21 m per pixel, and the \"No Data\" value is set to 0. Variable lighting in the orthoimages may result from variable sky conditions during the time of data acquisition.<\/span><\/p><\/div><\/div>", "extent": { "xmin": 445382.9723561461, "ymin": 6578568.704218194, "xmax": 457542.3923561457, "ymax": 6591004.694218193, "spatialReference": { "wkid": 102055, "latestWkid": 6337 } }, "initialExtent": { "xmin": 445382.9723561461, "ymin": 6578568.704218194, "xmax": 457542.3923561457, "ymax": 6591004.694218193, "spatialReference": { "wkid": 102055, "latestWkid": 6337 } }, "fullExtent": { "xmin": 445382.9723561461, "ymin": 6578568.704218194, "xmax": 457542.3923561457, "ymax": 6591004.694218193, "spatialReference": { "wkid": 102055, "latestWkid": 6337 } }, "sortableFields": "", "bandCount": 4, "pixelType": "U8", "minValues": [ 0, 0, 0, 0 ], "maxValues": [ 247, 247, 246, 255 ], "meanValues": [ 75.92442063561761, 83.34767912726988, 76.09574270854678, 207.9276719065601 ], "stdvValues": [ 45.37469524031525, 47.02708454459809, 45.45369598156036, 98.66395999032405 ], "hasMultidimensions": false, "pixelSizeX": 0.2099999999999937, "pixelSizeY": 0.20999999999998806, "datasetFormat": "AMD", "uncompressedSize": 13715594152, "blockWidth": 2048, "blockHeight": 256, "compressionType": "None", "bandNames": [ "Band_1", "Band_2", "Band_3", "Band_4" ], "allowCopy": true, "allowAnalysis": true, "itemAccess": false, "minPixelSize": 0, "maxPixelSize": 0, "copyrightText": "This project is funded by the State of Alaska Department of Transportation & Public Facilities and a State of Alaska Capital Improvement Project.", "serviceDataType": "esriImageServiceDataTypeGeneric", "serviceSourceType": "esriImageServiceSourceTypeMosaicDataset", "objectIdField": "OBJECTID", "fields": [ { "name": "OBJECTID", "type": "esriFieldTypeOID", "alias": "OBJECTID", "domain": null }, { "name": "Shape", "type": "esriFieldTypeGeometry", "alias": "Shape", "domain": null }, { "name": "Name", "type": "esriFieldTypeString", "alias": "Name", "domain": null, "length": 200 }, { "name": "MinPS", "type": "esriFieldTypeDouble", "alias": "MinPS", "domain": null }, { "name": "MaxPS", "type": "esriFieldTypeDouble", "alias": "MaxPS", "domain": null }, { "name": "LowPS", "type": "esriFieldTypeDouble", "alias": "LowPS", "domain": null }, { "name": "HighPS", "type": "esriFieldTypeDouble", "alias": "HighPS", "domain": null }, { "name": "Category", "type": "esriFieldTypeInteger", "alias": "Category", "domain": { "type": "codedValue", "name": "MosaicCatalogItemCategoryDomain", "description": "Catalog item categories.", "codedValues": [ { "name": "Unknown", "code": 0 }, { "name": "Primary", "code": 1 }, { "name": "Overview", "code": 2 }, { "name": "Unprocessed Overview", "code": 3 }, { "name": "Partial Overview", "code": 4 }, { "name": "Uploaded", "code": 253 }, { "name": "Incomplete", "code": 254 }, { "name": "Custom", "code": 255 } ], "mergePolicy": "esriMPTDefaultValue", "splitPolicy": "esriSPTDefaultValue" } }, { "name": "Tag", "type": "esriFieldTypeString", "alias": "Tag", "domain": null, "length": 100 }, { "name": "GroupName", "type": "esriFieldTypeString", "alias": "GroupName", "domain": null, "length": 100 }, { "name": "ProductName", "type": "esriFieldTypeString", "alias": "ProductName", "domain": null, "length": 100 }, { "name": "CenterX", "type": "esriFieldTypeDouble", "alias": "CenterX", "domain": null }, { "name": "CenterY", "type": "esriFieldTypeDouble", "alias": "CenterY", "domain": null }, { "name": "ZOrder", "type": "esriFieldTypeInteger", "alias": "ZOrder", "domain": null }, { "name": "Shape_Length", "type": "esriFieldTypeDouble", "alias": "Shape_Length", "domain": null }, { "name": "Shape_Area", "type": "esriFieldTypeDouble", "alias": "Shape_Area", "domain": null } ], "capabilities": "Catalog,Image,Metadata", "defaultMosaicMethod": "Northwest", "allowedMosaicMethods": "NorthWest,Center,LockRaster,ByAttribute,Nadir,Viewpoint,Seamline,None", "sortField": "", "sortValue": null, "sortAscending": true, "mosaicOperator": "First", "maxDownloadSizeLimit": 2048, "defaultCompressionQuality": 75, "defaultResamplingMethod": "Bilinear", "maxImageHeight": 4100, "maxImageWidth": 15000, "maxRecordCount": 1000, "maxDownloadImageCount": 20, "maxMosaicImageCount": 20, "allowRasterFunction": true, "rasterFunctionInfos": [ { "name": "None", "description": "A No-Op Function.", "help": "" } ], "rasterTypeInfos": [ { "name": "Raster Dataset", "description": "Supports all ArcGIS Raster Datasets", "help": "" } ], "mensurationCapabilities": "None", "hasHistograms": true, "hasColormap": false, "hasRasterAttributeTable": false, "minScale": 0, "maxScale": 0, "exportTilesAllowed": false, "supportsStatistics": true, "supportsAdvancedQueries": true, "editFieldsInfo": null, "ownershipBasedAccessControlForRasters": null, "allowComputeTiePoints": false, "useStandardizedQueries": true, "advancedQueryCapabilities": { "useStandardizedQueries": true, "supportsStatistics": true, "supportsOrderBy": true, "supportsDistinct": true, "supportsPagination": true }, "spatialReference": { "wkid": 102055, "latestWkid": 6337 } }