View In:
ArcGIS JavaScript
ArcGIS Online Map Viewer
ArcGIS Earth
Service Description: elevation/IFSAR_ORI_tile_cache
Name: elevation/IFSAR_ORI_tile_cache
Description:
Single Fused Map Cache: false
Extent:
XMin: -2.0037508342787E7
YMin: 6702118.072547398
XMax: 2.0037508343847226E7
YMax: 1.1584533254391653E7
Spatial Reference: 102100
(3857)
Initial Extent:
XMin: -2.0037508342787E7
YMin: 6702118.072547398
XMax: 2.0037508343847226E7
YMax: 1.1584533254391653E7
Spatial Reference: 102100
(3857)
Full Extent:
XMin: -2.0037508342787E7
YMin: 6702118.072547398
XMax: 2.0037508343847226E7
YMax: 1.1584533254391653E7
Spatial Reference: 102100
(3857)
Pixel Size X: 4.77731426794937
Pixel Size Y: 4.77731426794937
Band Count: 3
Pixel Type: U8
RasterFunction Infos: {"rasterFunctionInfos": [{
"name": "None",
"description": "",
"help": ""
}]}
Mensuration Capabilities: Basic
Has Histograms: false
Has Colormap: false
Has Multi Dimensions : false
Rendering Rule:
Min Scale: 0
Max Scale: 0
Copyright Text:
Service Data Type: esriImageServiceDataTypeRGB
Min Values: N/A
Max Values: N/A
Mean Values: N/A
Standard Deviation Values: N/A
Object ID Field:
Fields:
None
Default Mosaic Method: Center
Allowed Mosaic Methods:
SortField:
SortValue: null
Mosaic Operator: First
Default Compression Quality: 75
Default Resampling Method: Bilinear
Max Record Count: null
Max Image Height: 15000
Max Image Width: 15000
Max Download Image Count: null
Max Mosaic Image Count: null
Allow Raster Function: true
Allow Copy: true
Allow Analysis: true
Allow Compute TiePoints: false
Supports Statistics: false
Supports Advanced Queries: false
Use StandardizedQueries: true
Raster Type Infos:
Name: Raster Dataset
Description: Supports all ArcGIS Raster Datasets
Help:
Has Raster Attribute Table: false
Edit Fields Info: null
Ownership Based AccessControl For Rasters: null
Child Resources:
Info
Statistics
Key Properties
Legend
Raster Function Infos
Supported Operations:
Export Image
Identify
Measure
Compute Histograms
Compute Statistics Histograms
Get Samples
Compute Class Statistics
Query Boundary
Compute Pixel Location
Compute Angles
Validate
Project