{
 "currentVersion": 11.1,
 "serviceDescription": "In 2011 the Alaska Congressional Delegation requested federal support in modernizing Alaska map data. Collection of a 5-meter resolution elevation grid for Alaska began in 2012, replacing the former 60-meter statewide elevation grid. Radar technology called IfSAR (Interferometric Synthetic Aperture Radar) is used to collect the data because it can penetrate the clouds, smoke and haze that are often present in Alaska. The data are free to the public for any use. Alaska IfSAR acquisition supports the broader national 3D Elevation Program.",
 "name": "elevation/IFSAR_DTM",
 "description": "In 2011 the Alaska Congressional Delegation requested federal support in modernizing Alaska map data. Collection of a 5-meter resolution elevation grid for Alaska began in 2012, replacing the former 60-meter statewide elevation grid. Radar technology called IfSAR (Interferometric Synthetic Aperture Radar) is used to collect the data because it can penetrate the clouds, smoke and haze that are often present in Alaska. The data are free to the public for any use. Alaska IfSAR acquisition supports the broader national 3D Elevation Program.",
 "extent": {
  "xmin": -2190035,
  "ymin": 396760,
  "xmax": 1492515,
  "ymax": 2391470,
  "spatialReference": {
   "wkid": 102247,
   "latestWkid": 102247
  }
 },
 "initialExtent": {
  "xmin": -2190035,
  "ymin": 396760,
  "xmax": 1492515,
  "ymax": 2391470,
  "spatialReference": {
   "wkid": 102247,
   "latestWkid": 102247
  }
 },
 "fullExtent": {
  "xmin": -2190035,
  "ymin": 396760,
  "xmax": 1492515,
  "ymax": 2391470,
  "spatialReference": {
   "wkid": 102247,
   "latestWkid": 102247
  }
 },
 "sortableFields": "",
 "bandCount": 1,
 "pixelType": "F32",
 "minValues": [
  0
 ],
 "maxValues": [
  6000
 ],
 "meanValues": [
  42.22715491020219
 ],
 "stdvValues": [
  2232.125070175549
 ],
 "hasMultidimensions": false,
 "pixelSizeX": 5,
 "pixelSizeY": 5,
 "datasetFormat": "AMD",
 "uncompressedSize": 1175299089680,
 "blockWidth": 2048,
 "blockHeight": 256,
 "compressionType": "None",
 "bandNames": [
  "Band_1"
 ],
 "allowCopy": true,
 "allowAnalysis": true,
 "itemAccess": false,
 "noDataValue": -10000,
 "noDataValues": [
  -10000
 ],
 "minPixelSize": 0,
 "maxPixelSize": 0,
 "copyrightText": "",
 "serviceDataType": "esriImageServiceDataTypeGeneric",
 "serviceSourceType": "esriImageServiceSourceTypeMosaicDataset",
 "objectIdField": "OBJECTID",
 "fields": [
  {
   "name": "OBJECTID",
   "type": "esriFieldTypeOID",
   "alias": "OBJECTID",
   "domain": null
  },
  {
   "name": "Shape",
   "type": "esriFieldTypeGeometry",
   "alias": "Shape",
   "domain": null
  },
  {
   "name": "Name",
   "type": "esriFieldTypeString",
   "alias": "Name",
   "domain": null,
   "length": 200
  },
  {
   "name": "MinPS",
   "type": "esriFieldTypeDouble",
   "alias": "MinPS",
   "domain": null
  },
  {
   "name": "MaxPS",
   "type": "esriFieldTypeDouble",
   "alias": "MaxPS",
   "domain": null
  },
  {
   "name": "LowPS",
   "type": "esriFieldTypeDouble",
   "alias": "LowPS",
   "domain": null
  },
  {
   "name": "HighPS",
   "type": "esriFieldTypeDouble",
   "alias": "HighPS",
   "domain": null
  },
  {
   "name": "Category",
   "type": "esriFieldTypeInteger",
   "alias": "Category",
   "domain": {
    "type": "codedValue",
    "name": "MosaicCatalogItemCategoryDomain",
    "description": "Catalog item categories.",
    "codedValues": [
     {
      "name": "Unknown",
      "code": 0
     },
     {
      "name": "Primary",
      "code": 1
     },
     {
      "name": "Overview",
      "code": 2
     },
     {
      "name": "Unprocessed Overview",
      "code": 3
     },
     {
      "name": "Partial Overview",
      "code": 4
     },
     {
      "name": "Inactive",
      "code": 5
     },
     {
      "name": "Uploaded",
      "code": 253
     },
     {
      "name": "Incomplete",
      "code": 254
     },
     {
      "name": "Custom",
      "code": 255
     }
    ],
    "mergePolicy": "esriMPTDefaultValue",
    "splitPolicy": "esriSPTDefaultValue"
   }
  },
  {
   "name": "Tag",
   "type": "esriFieldTypeString",
   "alias": "Tag",
   "domain": null,
   "length": 100
  },
  {
   "name": "GroupName",
   "type": "esriFieldTypeString",
   "alias": "GroupName",
   "domain": null,
   "length": 100
  },
  {
   "name": "ProductName",
   "type": "esriFieldTypeString",
   "alias": "ProductName",
   "domain": null,
   "length": 100
  },
  {
   "name": "CenterX",
   "type": "esriFieldTypeDouble",
   "alias": "CenterX",
   "domain": null
  },
  {
   "name": "CenterY",
   "type": "esriFieldTypeDouble",
   "alias": "CenterY",
   "domain": null
  },
  {
   "name": "ZOrder",
   "type": "esriFieldTypeInteger",
   "alias": "ZOrder",
   "domain": null
  },
  {
   "name": "Shape_Length",
   "type": "esriFieldTypeDouble",
   "alias": "Shape_Length",
   "domain": null
  },
  {
   "name": "Shape_Area",
   "type": "esriFieldTypeDouble",
   "alias": "Shape_Area",
   "domain": null
  }
 ],
 "capabilities": "Catalog,Mensuration,Image,Metadata",
 "defaultMosaicMethod": "Northwest",
 "allowedMosaicMethods": "NorthWest,Center,LockRaster,ByAttribute,Nadir,Viewpoint,Seamline,None",
 "sortField": "",
 "sortValue": null,
 "sortAscending": true,
 "mosaicOperator": "First",
 "maxDownloadSizeLimit": 2048,
 "defaultCompressionQuality": 75,
 "defaultResamplingMethod": "Bilinear",
 "maxImageHeight": 15000,
 "maxImageWidth": 15000,
 "maxRecordCount": 1000,
 "maxDownloadImageCount": 20,
 "maxMosaicImageCount": 20,
 "allowRasterFunction": true,
 "rasterFunctionInfos": [
  {
   "name": "None",
   "description": "Make a Raster or Raster Dataset into a Function Raster Dataset.",
   "help": ""
  },
  {
   "name": "Hillshade Grey Scale",
   "description": "A raster function template.",
   "help": ""
  },
  {
   "name": "Hillshade Green Tint",
   "description": "A raster function template.",
   "help": ""
  },
  {
   "name": "Shaded Relief 1",
   "description": "A raster function template.",
   "help": ""
  },
  {
   "name": "Aspect Grey Scale",
   "description": "A raster function template.",
   "help": ""
  },
  {
   "name": "Slope Grey Scale",
   "description": "A raster function template.",
   "help": ""
  },
  {
   "name": "10ft Contours",
   "description": "10 foot contours from IFSAR DTM",
   "help": ""
  },
  {
   "name": "Coastal Mask",
   "description": "Clips elevation values to IFSAR derived hydrography.",
   "help": ""
  }
 ],
 "rasterTypeInfos": [
  {
   "name": "Raster Dataset",
   "description": "Supports all ArcGIS Raster Datasets",
   "help": ""
  }
 ],
 "mensurationCapabilities": "",
 "hasHistograms": true,
 "hasColormap": false,
 "hasRasterAttributeTable": false,
 "minScale": 0,
 "maxScale": 0,
 "exportTilesAllowed": false,
 "supportsStatistics": true,
 "supportsAdvancedQueries": true,
 "editFieldsInfo": null,
 "ownershipBasedAccessControlForRasters": null,
 "allowComputeTiePoints": false,
 "useStandardizedQueries": true,
 "advancedQueryCapabilities": {
  "useStandardizedQueries": true,
  "supportsStatistics": true,
  "supportsOrderBy": true,
  "supportsDistinct": true,
  "supportsPagination": true
 },
 "spatialReference": {
  "wkid": 102247,
  "latestWkid": 102247
 }
}
